BEGIN:VCALENDAR
VERSION:2.0
PRODID:-//Earlham School of Religion - ECPv6.15.20//NONSGML v1.0//EN
CALSCALE:GREGORIAN
METHOD:PUBLISH
X-WR-CALNAME:Earlham School of Religion
X-ORIGINAL-URL:https://esr.earlham.edu
X-WR-CALDESC:Events for Earlham School of Religion
REFRESH-INTERVAL;VALUE=DURATION:PT1H
X-Robots-Tag:noindex
X-PUBLISHED-TTL:PT1H
BEGIN:VTIMEZONE
TZID:America/Indiana/Indianapolis
BEGIN:DAYLIGHT
TZOFFSETFROM:-0500
TZOFFSETTO:-0400
TZNAME:EDT
DTSTART:20230312T070000
END:DAYLIGHT
BEGIN:STANDARD
TZOFFSETFROM:-0400
TZOFFSETTO:-0500
TZNAME:EST
DTSTART:20231105T060000
END:STANDARD
BEGIN:DAYLIGHT
TZOFFSETFROM:-0500
TZOFFSETTO:-0400
TZNAME:EDT
DTSTART:20240310T070000
END:DAYLIGHT
BEGIN:STANDARD
TZOFFSETFROM:-0400
TZOFFSETTO:-0500
TZNAME:EST
DTSTART:20241103T060000
END:STANDARD
BEGIN:DAYLIGHT
TZOFFSETFROM:-0500
TZOFFSETTO:-0400
TZNAME:EDT
DTSTART:20250309T070000
END:DAYLIGHT
BEGIN:STANDARD
TZOFFSETFROM:-0400
TZOFFSETTO:-0500
TZNAME:EST
DTSTART:20251102T060000
END:STANDARD
END:VTIMEZONE
BEGIN:VEVENT
DTSTART;TZID=America/Indiana/Indianapolis:20240528T130000
DTEND;TZID=America/Indiana/Indianapolis:20240528T143000
DTSTAMP:20260419T110403
CREATED:20240228T124436Z
LAST-MODIFIED:20240228T124436Z
UID:10000145-1716901200-1716906600@esr.earlham.edu
SUMMARY:Quaker Trustee Series: Investments
DESCRIPTION:When it comes to investing money\, what are our options? How do we assess possibilities with an eye to financial return\, stability\, and God’s purposes and leadings? 
URL:https://esr.earlham.edu/event/investments/
CATEGORIES:Quaker Leadership Center
END:VEVENT
END:VCALENDAR